BEGIN:VCALENDAR
VERSION:2.0
PRODID:eastboldonjuniors.co.uk
X-PUBLISHED-TTL:P1W
BEGIN:VEVENT
UID:921777118583
DTSTART:20240315T090000
SEQUENCE:0
TRANSP:OPAQUE
DTEND:20240315T153000
LOCATION:East Boldon Juniors School
SUMMARY:East Boldon Juniors School - Comic Relief 2024
CLASS:PUBLIC
DESCRIPTION:Comic Relief 2024
ORGANIZER:East Boldon Juniors School <office@eastboldonjuniors.co.uk>
DTSTAMP:20260425T130303
END:VEVENT
END:VCALENDAR