BEGIN:VCALENDAR
VERSION:2.0
PRODID:eastboldonjuniors.co.uk
X-PUBLISHED-TTL:P1W
BEGIN:VEVENT
UID:911776959145
DTSTART:20240307T090000
SEQUENCE:0
TRANSP:OPAQUE
DTEND:20240307T153000
LOCATION:East Boldon Juniors School
SUMMARY:East Boldon Juniors School - World Book Day 2024
CLASS:PUBLIC
DESCRIPTION:World Book Day 2024
ORGANIZER:East Boldon Juniors School <office@eastboldonjuniors.co.uk>
DTSTAMP:20260423T164545
END:VEVENT
END:VCALENDAR