BEGIN:VCALENDAR
VERSION:2.0
PRODID:eastboldonjuniors.co.uk
X-PUBLISHED-TTL:P1W
BEGIN:VEVENT
UID:901776947944
DTSTART:20240215T133000
SEQUENCE:0
TRANSP:OPAQUE
DTEND:20240215T180000
LOCATION:East Boldon Juniors School
SUMMARY:East Boldon Juniors School - PTA Disco Spring 2024
CLASS:PUBLIC
DESCRIPTION:PTA Disco Spring 2024
ORGANIZER:East Boldon Juniors School <office@eastboldonjuniors.co.uk>
DTSTAMP:20260423T133904
END:VEVENT
END:VCALENDAR