BEGIN:VCALENDAR
VERSION:2.0
PRODID:eastboldonjuniors.co.uk
X-PUBLISHED-TTL:P1W
BEGIN:VEVENT
UID:891776938275
DTSTART:20240214T114500
SEQUENCE:0
TRANSP:OPAQUE
DTEND:20240214T131500
LOCATION:East Boldon Juniors School
SUMMARY:East Boldon Juniors School - Chinese New Year School Dinner 2024
CLASS:PUBLIC
DESCRIPTION:Chinese New Year School Dinner 2024
ORGANIZER:East Boldon Juniors School <office@eastboldonjuniors.co.uk>
DTSTAMP:20260423T105755
END:VEVENT
END:VCALENDAR