BEGIN:VCALENDAR
VERSION:2.0
PRODID:eastboldonjuniors.co.uk
X-PUBLISHED-TTL:P1W
BEGIN:VEVENT
UID:821776758456
DTSTART:20240212T130000
SEQUENCE:0
TRANSP:OPAQUE
DTEND:20240213T173000
LOCATION:East Boldon Juniors School
SUMMARY:East Boldon Juniors School - Parents/Carers' Evening Spring 2024
CLASS:PUBLIC
DESCRIPTION:Parents/Carers' Evening Spring 2024
ORGANIZER:East Boldon Juniors School <office@eastboldonjuniors.co.uk>
DTSTAMP:20260421T090056
END:VEVENT
END:VCALENDAR