BEGIN:VCALENDAR
VERSION:2.0
PRODID:eastboldonjuniors.co.uk
X-PUBLISHED-TTL:P1W
BEGIN:VEVENT
UID:1131776610103
DTSTART:20240603T090000
SEQUENCE:0
TRANSP:OPAQUE
DTEND:20240603T092000
LOCATION:East Boldon Juniors School
SUMMARY:East Boldon Juniors School - NSPCC Assembly
CLASS:PUBLIC
DESCRIPTION:NSPCC Assembly
ORGANIZER:East Boldon Juniors School <office@eastboldonjuniors.co.uk>
DTSTAMP:20260419T154823
END:VEVENT
END:VCALENDAR